Workbook
Name another: #REF!
Name another: #REF!
Name another: #REF!
Name blah: #REF!
Name blah: #REF!
Name blah: #REF!
Name Blahh: '[1](1) HOUSEHOLD ROSTER'!$B$1
Name cc: #REF!
Name cc: #REF!
Name cc: #REF!
Name ex: #REF!
Name ex: #REF!
Name ex: #REF!
Name food: #REF!
Name food: #REF!
Name food: #REF!
Name help: #REF!
Name help: #REF!
Name help: #REF!
Name malawi: #REF!
Name malawi: #REF!
Name new: #REF!
Name new: #REF!
Name new: #REF!
Name Perberja_Familjare: #REF!
Name Perberja_Familjare: #REF!
Name Perberja_Familjare: #REF!
Name q: #REF!
Name q: #REF!
Name q: #REF!
Name SECTION_1: #REF!
Name SECTION_1: #REF!
Name SECTION_1: #REF!
Name SECTION_1__HOUSEHOLD_INFORMATION: #REF!
Name SECTION_1__HOUSEHOLD_INFORMATION: #REF!
Name SECTION_1__HOUSEHOLD_INFORMATION: #REF!
Name shc: '[2](1) HOUSEHOLD ROSTER'!$B$1
Name TEST: '[2](1) HOUSEHOLD ROSTER'!$B$1
Name test22: #REF!
Name test22: #REF!
Name test22: #REF!
Name tillf: #REF!
Name tillf: #REF!
Name tillf: #REF!
Name tillf2: '[3](1) HOUSEHOLD ROSTER'!$B$1
Name VAL: '[4](1) HOUSEHOLD ROSTER'!$B$1
Name VAL: '[5](1) HOUSEHOLD ROSTER'!$B$1
Name VAL: '[5](1) HOUSEHOLD ROSTER'!$B$1
Name WHATTHAT: #REF!
Name WHATTHAT: #REF!
Name WHATTHAT: #REF!
Name xx: '[2](1) HOUSEHOLD ROSTER'!$B$1
Name xxx: #REF!
Name xxx: #REF!
Name xxx: #REF!
Name zz: #REF!
Name zz: #REF!
Name zz: #REF!

Sheet couvert
A2: REPUBLIQUE DU BBCGMNST
A5: MINISTERE DE L'ECONOMIE ET DES FINANCES
A7: INSTITUT NATIONAL DE LA STATISTIQUE
S9: IDENTIFIANT DU MARCHE
S10: STRATE | AA10: MARCHE
A16: ENQUÊTE DE MARCHÉ SUR LES UNITES NON-STANDARD 2017
A17: AVEC L'APPUI DE LA BANQUE MONDIALE
A21: Coordonnées GPS du marché
A24: Latitude | H24: N
A26: Longitude | H26: W/E
H29: Nom du marché:
B31: Adresse (localisation) du marché:
A34: CONFIDENTIEL : La Loi ............... fait obligation aux personnes physiques et morales de répondre aux Enquêtes Statistiques Officielles. Elle garantit aussi la confidentialité des réponses individuelles par des sanctions aux contrevenants prévues au Code Pénal.

Sheet S0_Cont
A1: SECTION 0: RENSEIGNEMENTS DE CONTROLE
A3: A | B3: Identification du marché
A4: 01.- | B4: Région | E4: NOM: | L4: CODE:
A5: 02.- | B5: Département | E5: NOM: | L5: CODE:
A6: 03.- | B6: Commune | E6: NOM: | L6: CODE:
A7: 04.- | B7: Milieu | F7: 1. Urbain 2. Rural | L7: CODE:
A8: 05.- | B8: Village/Quartier | E8: NOM:
A9: 06.- | B9: Nº de la strate | L9: CODE:
A10: 07.- | B10: Numéro du marché dans la strate | L10: CODE:
A12: B | B12: Caractéristiques du marché
A13: 08.- | B13: Nom du marché | E13: NOM:
A14: 09.- | B14: Localisation du marché | E14: NOM:
A15: 10.- | B15: Jours de marché | L15: Code (1= Oui, 2 = Non)
K16: A | L16: Lundi
K17: B | L17: Mardi
K18: C | L18: Mercredi
K19: D | L19: Jeudi
K20: E | L20: Vendredi
K21: F | L21: Samedi
K22: G | L22: Dimanche
A24: C | B24: Renseignements de contrôle
A25: 11.- | B25: Prénom et nom de l'agent enquêteur #1 | L25: CODE:
A26: 12.- | B26: Prénom et nom de l'agent enquêteur #2 | L26: CODE:
A27: 13.- | B27: Prénom et nom du contrôleur | L27: CODE:
D28: Jour | F28: Mois | H28: Année | J28: Heure | L28: Minutes
A29: 14.- | B29: Début de collecte
A30: 15.- | B30: Fin de collecte
A31: 16.- | B31: Contrôle
A32: 17.- | B32: Résultat du questionnaire | D32: 1=Complet 2=Partiel | L32: CODE:
A33: 18.- | B33: Langue | D33: 1= 2= 3= 4= 5= 6 = 7= 8= 9=Autre | L33: CODE:

Sheet S1_Releves_Consommation
A1: SECTION 1. Relevé des poids et prix
A2: 1 | C2: =A2+0.01 -> 1.01 | E2: =C2+0.01 -> 1.02 | F2: =E2+0.01 -> 1.03 | H2: =F2+0.01 -> 1.04 | I2: =H2+0.01 -> 1.05 | J2: =I2+0.01 -> 1.06 | K2: =J2+0.01 -> 1.07 | L2: =K2+0.01 -> 1.08
A3: Produit | C3: Unité | F3: Taille | L3: Relevé 1 | N3: Relevé 2 | P3: Relevé 3
A4: Libellé | B4: CODE | C4: Libellé | D4: CODE | E4: Spécifier le nom de la nouvelle Unité NOM | F4: Libellé | G4: CODE | H4: L'article a-t-il été mesuré 1 = Oui 2 = Non ►1.07 | I4: Pourquoi l'article n'a pas été mesuré? 1. Produit non-disponible à cette periode (2 à 4) ►article suivant 2. Produit non-disponible en général dans ce marché 3. Unité non-utilisée dans ce marché 4. Autre (à specifier) | J4: Ecrire le code du mois òu le produit sera disponible prochainement. (1 pour Janvier, 2 pour Février, etc.) ►► Article suivant | K4: Quelle balance a été utilisée? 1. Balance personnelle 2. Balance du marchand CODE | L4: Poids (KG) | M4: Prix (FCFA) | N4: Poids (KG) | O4: Prix (FCFA) | P4: Poids (KG) | Q4: Prix (FCFA)
A5: Riz local longs grains | B5: 1 | C5: Kg | D5: =VLOOKUP(C5,[6]Unités!A:B,2,FALSE) -> 100 | F5: N/A | G5: 0
B6: 1 | C6: Bol | D6: =VLOOKUP(C6,[6]Unités!A:B,2,FALSE) -> 109 | F6: Petit | G6: 1
B7: 1 | C7: Bol | D7: =VLOOKUP(C7,[6]Unités!A:B,2,FALSE) -> 109 | F7: Moyen | G7: 2
B8: 1 | C8: Bol | D8: =VLOOKUP(C8,[6]Unités!A:B,2,FALSE) -> 109 | F8: Grand | G8: 3
B9: 1 | C9: Sachet | D9: =VLOOKUP(C9,[6]Unités!A:B,2,FALSE) -> 139 | F9: Petit | G9: 1
B10: 1 | C10: Sachet | D10: =VLOOKUP(C10,[6]Unités!A:B,2,FALSE) -> 139 | F10: Moyen | G10: 2
B11: 1 | C11: Sachet | D11: =VLOOKUP(C11,[6]Unités!A:B,2,FALSE) -> 139 | F11: Grand | G11: 3
B12: 1 | C12: Sac (25 Kg) | D12: =VLOOKUP(C12,[6]Unités!A:B,2,FALSE) -> 136 | F12: N/A | G12: 0
B13: 1 | C13: Sac (50 Kg) | D13: =VLOOKUP(C13,[6]Unités!A:B,2,FALSE) -> 138 | F13: N/A | G13: 0
B14: 1 | C14: Sac (100 Kg) | D14: =VLOOKUP(C14,[6]Unités!A:B,2,FALSE) -> 135 | F14: N/A | G14: 0
B15: 1 | C15: Agoua | D15: =VLOOKUP(C15,[6]Unités!A:B,2,FALSE) -> 663 | F15: Quart | G15: 4
B16: 1 | C16: Agoua | D16: =VLOOKUP(C16,[6]Unités!A:B,2,FALSE) -> 663 | F16: Demi | G16: 5
B17: 1 | C17: Agoua | D17: =VLOOKUP(C17,[6]Unités!A:B,2,FALSE) -> 663 | F17: Entier | G17: 6
... B20: 1 | C20: Kpogban | D20: =VLOOKUP(C20,[6]Unités!A:B,2,FALSE) -> 664 | F20: Entier | G20: 6
A22: Riz local (Kovié) | B22: 2 | C22: Kg | D22: =VLOOKUP(C22,[6]Unités!A:B,2,FALSE) -> 100 | F22: N/A | G22: 0
B23: 2 | C23: Bol | D23: =VLOOKUP(C23,[6]Unités!A:B,2,FALSE) -> 109 | F23: Petit | G23: 1
B24: 2 | C24: Bol | D24: =VLOOKUP(C24,[6]Unités!A:B,2,FALSE) -> 109 | F24: Moyen | G24: 2
B25: 2 | C25: Bol | D25: =VLOOKUP(C25,[6]Unités!A:B,2,FALSE) -> 109 | F25: Grand | G25: 3
B26: 2 | C26: Sachet | D26: =VLOOKUP(C26,[6]Unités!A:B,2,FALSE) -> 139 | F26: Petit | G26: 1
B27: 2 | C27: Sachet | D27: =VLOOKUP(C27,[6]Unités!A:B,2,FALSE) -> 139 | F27: Moyen | G27: 2
B28: 2 | C28: Sachet | D28: =VLOOKUP(C28,[6]Unités!A:B,2,FALSE) -> 139 | F28: Grand | G28: 3
B29: 2 | C29: Sac (25 Kg) | D29: =VLOOKUP(C29,[6]Unités!A:B,2,FALSE) -> 136 | F29: N/A | G29: 0
B30: 2 | C30: Sac (50 Kg) | D30: =VLOOKUP(C30,[6]Unités!A:B,2,FALSE) -> 138 | F30: N/A | G30: 0
B31: 2 | C31: Sac (100 Kg) | D31: =VLOOKUP(C31,[6]Unités!A:B,2,FALSE) -> 135 | F31: N/A | G31: 0
B32: 2 | C32: Agoua | D32: =VLOOKUP(C32,[6]Unités!A:B,2,FALSE) -> 663 | F32: Quart | G32: 4
B33: 2 | C33: Agoua | D33: =VLOOKUP(C33,[6]Unités!A:B,2,FALSE) -> 663 | F33: Demi | G33: 5
B34: 2 | C34: Agoua | D34: =VLOOKUP(C34,[6]Unités!A:B,2,FALSE) -> 663 | F34: Entier | G34: 6
... B37: 2 | C37: Kpogban | D37: =VLOOKUP(C37,[6]Unités!A:B,2,FALSE) -> 664 | F37: Entier | G37: 6
A39: Riz importé longs grains | B39: 3 | C39: Kg | D39: =VLOOKUP(C39,[6]Unités!A:B,2,FALSE) -> 100 | F39: N/A | G39: 0
B40: 3 | C40: Bol | D40: =VLOOKUP(C40,[6]Unités!A:B,2,FALSE) -> 109 | F40: Petit | G40: 1
B41: 3 | C41: Bol | D41: =VLOOKUP(C41,[6]Unités!A:B,2,FALSE) -> 109 | F41: Moyen | G41: 2
B42: 3 | C42: Bol | D42: =VLOOKUP(C42,[6]Unités!A:B,2,FALSE) -> 109 | F42: Grand | G42: 3
B43: 3 | C43: Sachet | D43: =VLOOKUP(C43,[6]Unités!A:B,2,FALSE) -> 139 | F43: Petit | G43: 1
B44: 3 | C44: Sachet | D44: =VLOOKUP(C44,[6]Unités!A:B,2,FALSE) -> 139 | F44: Moyen | G44: 2
B45: 3 | C45: Sachet | D45: =VLOOKUP(C45,[6]Unités!A:B,2,FALSE) -> 139 | F45: Grand | G45: 3
B46: 3 | C46: Sac (25 Kg) | D46: =VLOOKUP(C46,[6]Unités!A:B,2,FALSE) -> 136 | F46: N/A | G46: 0
B47: 3 | C47: Sac (50 Kg) | D47: =VLOOKUP(C47,[6]Unités!A:B,2,FALSE) -> 138 | F47: N/A | G47: 0
B48: 3 | C48: Sac (100 Kg) | D48: =VLOOKUP(C48,[6]Unités!A:B,2,FALSE) -> 135 | F48: N/A | G48: 0
B49: 3 | C49: Agoua | D49: =VLOOKUP(C49,[6]Unités!A:B,2,FALSE) -> 663 | F49: Quart | G49: 4
B50: 3 | C50: Agoua | D50: =VLOOKUP(C50,[6]Unités!A:B,2,FALSE) -> 663 | F50: Demi | G50: 5
B51: 3 | C51: Agoua | D51: =VLOOKUP(C51,[6]Unités!A:B,2,FALSE) -> 663 | F51: Entier | G51: 6
... B54: 3 | C54: Kpogban | D54: =VLOOKUP(C54,[6]Unités!A:B,2,FALSE) -> 664 | F54: Entier | G54: 6
D55: =VLOOKUP(C55,[6]Unités!A:B,2,FALSE) -> #N/A
A56: Riz importé brisé | B56: 4 | C56: Kg | D56: =VLOOKUP(C56,[6]Unités!A:B,2,FALSE) -> 100 | F56: N/A | G56: 0
B57: 4 | C57: Bol | D57: =VLOOKUP(C57,[6]Unités!A:B,2,FALSE) -> 109 | F57: Petit | G57: 1
B58: 4 | C58: Bol | D58: =VLOOKUP(C58,[6]Unités!A:B,2,FALSE) -> 109 | F58: Moyen | G58: 2
B59: 4 | C59: Bol | D59: =VLOOKUP(C59,[6]Unités!A:B,2,FALSE) -> 109 | F59: Grand | G59: 3
B60: 4 | C60: Sachet | D60: =VLOOKUP(C60,[6]Unités!A:B,2,FALSE) -> 139 | F60: Petit | G60: 1
B61: 4 | C61: Sachet | D61: =VLOOKUP(C61,[6]Unités!A:B,2,FALSE) -> 139 | F61: Moyen | G61: 2
B62: 4 | C62: Sachet | D62: =VLOOKUP(C62,[6]Unités!A:B,2,FALSE) -> 139 | F62: Grand | G62: 3
B63: 4 | C63: Sac (25 Kg) | D63: =VLOOKUP(C63,[6]Unités!A:B,2,FALSE) -> 136 | F63: N/A | G63: 0
B64: 4 | C64: Sac (50 Kg) | D64: =VLOOKUP(C64,[6]Unités!A:B,2,FALSE) -> 138 | F64: N/A | G64: 0
B65: 4 | C65: Sac (100 Kg) | D65: =VLOOKUP(C65,[6]Unités!A:B,2,FALSE) -> 135 | F65: N/A | G65: 0
B66: 4 | C66: Agoua | D66: =VLOOKUP(C66,[6]Unités!A:B,2,FALSE) -> 663 | F66: Quart | G66: 4
B67: 4 | C67: Agoua | D67: =VLOOKUP(C67,[6]Unités!A:B,2,FALSE) -> 663 | F67: Demi | G67: 5
B68: 4 | C68: Agoua | D68: =VLOOKUP(C68,[6]Unités!A:B,2,FALSE) -> 663 | F68: Entier | G68: 6
... B71: 4 | C71: Kpogban | D71: =VLOOKUP(C71,[6]Unités!A:B,2,FALSE) -> 664 | F71: Entier | G71: 6
D72: =VLOOKUP(C72,[6]Unités!A:B,2,FALSE) -> #N/A
A73: Maïs en epis | B73: 5 | C73: Unité | D73: =VLOOKUP(C73,[6]Unités!A:B,2,FALSE) -> 147 | F73: Petit | G73: 1
B74: 5 | C74: Unité | D74: =VLOOKUP(C74,[6]Unités!A:B,2,FALSE) -> 147 | F74: Moyen | G74: 2
B75: 5 | C75: Unité | D75: =VLOOKUP(C75,[6]Unités!A:B,2,FALSE) -> 147 | F75: Grand | G75: 3
B76: 5 | C76: Sac (25 Kg) | D76: =VLOOKUP(C76,[6]Unités!A:B,2,FALSE) -> 136 | F76: N/A | G76: 0
B77: 5 | C77: Sac (50 Kg) | D77: =VLOOKUP(C77,[6]Unités!A:B,2,FALSE) -> 138 | F77: N/A | G77: 0
B78: 5 | C78: Sac (100 Kg) | D78: =VLOOKUP(C78,[6]Unités!A:B,2,FALSE) -> 135 | F78: N/A | G78: 0
B79: 5 | C79: Tas | D79: =VLOOKUP(C79,[6]Unités!A:B,2,FALSE) -> 143 | F79: Petit | G79: 1
B80: 5 | C80: Tas | D80: =VLOOKUP(C80,[6]Unités!A:B,2,FALSE) -> 143 | F80: Moyen | G80: 2
B81: 5 | C81: Tas | D81: =VLOOKUP(C81,[6]Unités!A:B,2,FALSE) -> 143 | F81: Grand | G81: 3
A83: Maïs en grain | B83: 6 | C83: Kg | D83: =VLOOKUP(C83,[6]Unités!A:B,2,FALSE) -> 100 | F83: N/A | G83: 0
B84: 6 | C84: Bol | D84: =VLOOKUP(C84,[6]Unités!A:B,2,FALSE) -> 109 | F84: Petit | G84: 1
B85: 6 | C85: Bol | D85: =VLOOKUP(C85,[6]Unités!A:B,2,FALSE) -> 109 | F85: Moyen | G85: 2
B86: 6 | C86: Bol | D86: =VLOOKUP(C86,[6]Unités!A:B,2,FALSE) -> 109 | F86: Grand | G86: 3
B87: 6 | C87: Sac (25 Kg) | D87: =VLOOKUP(C87,[6]Unités!A:B,2,FALSE) -> 136 | F87: N/A | G87: 0
B88: 6 | C88: Sac (50 Kg) | D88: =VLOOKUP(C88,[6]Unités!A:B,2,FALSE) -> 138 | F88: N/A | G88: 0
B89: 6 | C89: Sac (100 Kg) | D89: =VLOOKUP(C89,[6]Unités!A:B,2,FALSE) -> 135 | F89: N/A | G89: 0
B90: 6 | C90: Agoua | D90: =VLOOKUP(C90,[6]Unités!A:B,2,FALSE) -> 663 | F90: Quart | G90: 4
B91: 6 | C91: Agoua | D91: =VLOOKUP(C91,[6]Unités!A:B,2,FALSE) -> 663 | F91: Demi | G91: 5
B92: 6 | C92: Agoua | D92: =VLOOKUP(C92,[6]Unités!A:B,2,FALSE) -> 663 | F92: Entier | G92: 6
B93: 6 | C93: Kpogban | D93: =VLOOKUP(C93,[6]Unités!A:B,2,FALSE) -> 664 | F93: Quart | G93: 4
B94: 6 | C94: Kpogban | D94: =VLOOKUP(C94,[6]Unités!A:B,2,FALSE) -> 664 | F94: Demi | G94: 5
B95: 6 | C95: Kpogban | D95: =VLOOKUP(C95,[6]Unités!A:B,2,FALSE) -> 664 | F95: Entier | G95: 6
A97: Mil | B97: 7 | C97: Kg | D97: =VLOOKUP(C97,[6]Unités!A:B,2,FALSE) -> 100 | F97: N/A | G97: 0
B98: 7 | C98: Bol | D98: =VLOOKUP(C98,[6]Unités!A:B,2,FALSE) -> 109 | F98: Petit | G98: 1
B99: 7 | C99: Bol | D99: =VLOOKUP(C99,[6]Unités!A:B,2,FALSE) -> 109 | F99: Moyen | G99: 2
B100: 7 | C100: Bol | D100: =VLOOKUP(C100,[6]Unités!A:B,2,FALSE) -> 109 | F100: Grand | G100: 3
B101: 7 | C101: Sac (25 Kg) | D101: =VLOOKUP(C101,[6]Unités!A:B,2,FALSE) -> 136 | F101: N/A | G101: 0
B102: 7 | C102: Sac (50 Kg) | D102: =VLOOKUP(C102,[6]Unités!A:B,2,FALSE) -> 138 | F102: N/A | G102: 0
B103: 7 | C103: Sac (100 Kg) | D103: =VLOOKUP(C103,[6]Unités!A:B,2,FALSE) -> 135 | F103: N/A | G103: 0
B104: 7 | C104: Agoua | D104: =VLOOKUP(C104,[6]Unités!A:B,2,FALSE) -> 663 | F104: Quart | G104: 4
B105: 7 | C105: Agoua | D105: =VLOOKUP(C105,[6]Unités!A:B,2,FALSE) -> 663 | F105: Demi | G105: 5
B106: 7 | C106: Agoua | D106: =VLOOKUP(C106,[6]Unités!A:B,2,FALSE) -> 663 | F106: Entier | G106: 6
B107: 7 | C107: Kpogban | D107: =VLOOKUP(C107,[6]Unités!A:B,2,FALSE) -> 664 | F107: Quart | G107: 4
B108: 7 | C108: Kpogban | D108: =VLOOKUP(C108,[6]Unités!A:B,2,FALSE) -> 664 | F108: Demi | G108: 5
B109: 7 | C109: Kpogban | D109: =VLOOKUP(C109,[6]Unités!A:B,2,FALSE) -> 664 | F109: Entier | G109: 6
A111: Sorgho | B111: 8 | C111: Kg | D111: =VLOOKUP(C111,[6]Unités!A:B,2,FALSE) -> 100 | F111: N/A | G111: 0
B112: 8 | C112: Bol | D112: =VLOOKUP(C112,[6]Unités!A:B,2,FALSE) -> 109 | F112: Petit | G112: 1
B113: 8 | C113: Bol | D113: =VLOOKUP(C113,[6]Unités!A:B,2,FALSE) -> 109 | F113: Moyen | G113: 2
...

Sheet S2_Releves_Production
A1: SECTION 2. Relevé des poids et prix
A3: 1 | C3: =A3+0.01 -> 1.01 | E3: =C3+0.01 -> 1.02 | G3: =F4+0.01 -> 1.04 | H3: =G3+0.01 -> 1.05 | I3: =H3+0.01 -> 1.06 | J3: =I3+0.01 -> 1.07 | K3: =J3+0.01 -> 1.08 | L3: =K3+0.01 -> 1.09 | M3: =L3+0.01 -> 1.1
A4: CULTURE | C4: Unité | F4: =E3+0.01 -> 1.03 | K4: Relevé du poids en l'état | M4: Relevé du poids égréné
E5: Spécifier le nom de la nouvelle unité | F5: Quel est l'état du produit? 1 = Epis/Panicules/coques 2 = Grains 3 = N/A | G5: =CONCATENATE("L'article a-t-il été mesuré 1 = Oui ►",K3," 2 = Non ") -> L'article a-t-il été mesuré 1 = Oui ►1,08 2 = Non | H5: Pourquoi l'article n'a pas été mesuré? 1. Produit non-disponible à cette periode (2 à 4) ►article suivant 2. Produit non-disponible en général dans cette zone 3. Unité non-utilisée dans cette zone 4. Autre (à specifier) | I5: Ecrire le code du mois òu le produit sera disponible prochainement. (1 pour Janvier, 2 pour Février, etc.) ►► Article suivant | J5: Quelle balance a été utilisée pour les relevés? 1. Balance personnelle 2. Balance du producteur | K5: Poids (KG) | L5: =CONCATENATE("L'unité est t-elle la botte/Gerbe ou autre petite unité en épis/panicules coques? 1 = Oui 2 = Non ► article suivant") -> L'unité est t-elle la botte/Gerbe ou autre petite unité en épis/panicules coques? 1 = Oui 2 = Non ► article suivant | M5: Poids (KG)
A6: Libellé | B6: CODE | C6: Libellé | D6: CODE | E6: NOM | F6: CODE | G6: CODE | H6: CODE | I6: CODE | J6: CODE | K6: NOMBRE | L6: CODE | M6: CODE
A7: Maïs | B7: 1 | C7: Kg | D7: =VLOOKUP(C7,[7]Unités!A:B,2,FALSE) -> 100
B8: 1 | C8: Sac (100 Kg) | D8: =VLOOKUP(C8,[7]Unités!A:B,2,FALSE) -> 135
B9: 1 | C9: Sac (25 Kg) | D9: =VLOOKUP(C9,[7]Unités!A:B,2,FALSE) -> 136
B10: 1 | C10: Sac (50 Kg) | D10: =VLOOKUP(C10,[7]Unités!A:B,2,FALSE) -> 138
B11: 1 | C11: Bol | D11: =VLOOKUP(C11,[7]Unités!A:B,2,FALSE) -> 109
B12: 1 | C12: Agoua | D12: =VLOOKUP(C12,[7]Unités!A:B,2,FALSE) -> 663
B13: 1 | C13: Kpogban | D13: =VLOOKUP(C13,[7]Unités!A:B,2,FALSE) -> 664
A15: Sorgho | B15: 2 | C15: Kg | D15: =VLOOKUP(C15,[7]Unités!A:B,2,FALSE) -> 100
B16: 2 | C16: Sac (100 Kg) | D16: =VLOOKUP(C16,[7]Unités!A:B,2,FALSE) -> 135
B17: 2 | C17: Sac (25 Kg) | D17: =VLOOKUP(C17,[7]Unités!A:B,2,FALSE) -> 136
B18: 2 | C18: Sac (50 Kg) | D18: =VLOOKUP(C18,[7]Unités!A:B,2,FALSE) -> 138
B19: 2 | C19: Bassine | D19: =VLOOKUP(C19,[7]Unités!A:B,2,FALSE) -> 105
B20: 2 | C20: Bol | D20: =VLOOKUP(C20,[7]Unités!A:B,2,FALSE) -> 109
B21: 2 | C21: Agoua | D21: =VLOOKUP(C21,[7]Unités!A:B,2,FALSE) -> 663
B22: 2 | C22: Kpogban | D22: =VLOOKUP(C22,[7]Unités!A:B,2,FALSE) -> 664
A24: Mil | B24: 3 | C24: Kg | D24: =VLOOKUP(C24,[7]Unités!A:B,2,FALSE) -> 100
B25: 3 | C25: Sac (100 Kg) | D25: =VLOOKUP(C25,[7]Unités!A:B,2,FALSE) -> 135
B26: 3 | C26: Sac (25 Kg) | D26: =VLOOKUP(C26,[7]Unités!A:B,2,FALSE) -> 136
B27: 3 | C27: Sac (50 Kg) | D27: =VLOOKUP(C27,[7]Unités!A:B,2,FALSE) -> 138
B28: 3 | C28: Bassine | D28: =VLOOKUP(C28,[7]Unités!A:B,2,FALSE) -> 105
B29: 3 | C29: Bol | D29: =VLOOKUP(C29,[7]Unités!A:B,2,FALSE) -> 109
B30: 3 | C30: Agoua | D30: =VLOOKUP(C30,[7]Unités!A:B,2,FALSE) -> 663
B31: 3 | C31: Kpogban | D31: =VLOOKUP(C31,[7]Unités!A:B,2,FALSE) -> 664
A33: Riz | B33: 4 | C33: Kg | D33: =VLOOKUP(C33,[7]Unités!A:B,2,FALSE) -> 100
B34: 4 | C34: Sac (100 Kg) | D34: =VLOOKUP(C34,[7]Unités!A:B,2,FALSE) -> 135
B35: 4 | C35: Sac (25 Kg) | D35: =VLOOKUP(C35,[7]Unités!A:B,2,FALSE) -> 136
B36: 4 | C36: Sac (50 Kg) | D36: =VLOOKUP(C36,[7]Unités!A:B,2,FALSE) -> 138
B37: 4 | C37: Bassine | D37: =VLOOKUP(C37,[7]Unités!A:B,2,FALSE) -> 105
B38: 4 | C38: Bol | D38: =VLOOKUP(C38,[7]Unités!A:B,2,FALSE) -> 109
B39: 4 | C39: Agoua | D39: =VLOOKUP(C39,[7]Unités!A:B,2,FALSE) -> 663
B40: 4 | C40: Kpogban | D40: =VLOOKUP(C40,[7]Unités!A:B,2,FALSE) -> 664
A42: Fonio | B42: 5 | C42: Kg | D42: =VLOOKUP(C42,[7]Unités!A:B,2,FALSE) -> 100
B43: 5 | C43: Sac (100 Kg) | D43: =VLOOKUP(C43,[7]Unités!A:B,2,FALSE) -> 135
B44: 5 | C44: Sac (25 Kg) | D44: =VLOOKUP(C44,[7]Unités!A:B,2,FALSE) -> 136
B45: 5 | C45: Sac (50 Kg) | D45: =VLOOKUP(C45,[7]Unités!A:B,2,FALSE) -> 138
B46: 5 | C46: Bassine | D46: =VLOOKUP(C46,[7]Unités!A:B,2,FALSE) -> 105
B47: 5 | C47: Bol | D47: =VLOOKUP(C47,[7]Unités!A:B,2,FALSE) -> 109
B48: 5 | C48: Agoua | D48: =VLOOKUP(C48,[7]Unités!A:B,2,FALSE) -> 663
B49: 5 | C49: Kpogban | D49: =VLOOKUP(C49,[7]Unités!A:B,2,FALSE) -> 664
A51: Niébé/haricot sec | B51: 6 | C51: Kg | D51: =VLOOKUP(C51,[7]Unités!A:B,2,FALSE) -> 100
B52: 6 | C52: Sac (100 Kg) | D52: =VLOOKUP(C52,[7]Unités!A:B,2,FALSE) -> 135
B53: 6 | C53: Sac (25 Kg) | D53: =VLOOKUP(C53,[7]Unités!A:B,2,FALSE) -> 136
B54: 6 | C54: Sac (50 Kg) | D54: =VLOOKUP(C54,[7]Unités!A:B,2,FALSE) -> 138
B55: 6 | C55: Bassine | D55: =VLOOKUP(C55,[7]Unités!A:B,2,FALSE) -> 105
B56: 6 | C56: Bol | D56: =VLOOKUP(C56,[7]Unités!A:B,2,FALSE) -> 109
B57: 6 | C57: Agoua | D57: =VLOOKUP(C57,[7]Unités!A:B,2,FALSE) -> 663
B58: 6 | C58: Kpogban | D58: =VLOOKUP(C58,[7]Unités!A:B,2,FALSE) -> 664
A60: Soja | B60: 7 | C60: Kg | D60: =VLOOKUP(C60,[7]Unités!A:B,2,FALSE) -> 100
B61: 7 | C61: Sac (100 Kg) | D61: =VLOOKUP(C61,[7]Unités!A:B,2,FALSE) -> 135
B62: 7 | C62: Sac (25 Kg) | D62: =VLOOKUP(C62,[7]Unités!A:B,2,FALSE) -> 136
B63: 7 | C63: Sac (50 Kg) | D63: =VLOOKUP(C63,[7]Unités!A:B,2,FALSE) -> 138
B64: 7 | C64: Bassine | D64: =VLOOKUP(C64,[7]Unités!A:B,2,FALSE) -> 105
B65: 7 | C65: Bol | D65: =VLOOKUP(C65,[7]Unités!A:B,2,FALSE) -> 109
B66: 7 | C66: Agoua | D66: =VLOOKUP(C66,[7]Unités!A:B,2,FALSE) -> 663
B67: 7 | C67: Kpogban | D67: =VLOOKUP(C67,[7]Unités!A:B,2,FALSE) -> 664
A69: Sésame | B69: 8 | C69: Kg | D69: =VLOOKUP(C69,[7]Unités!A:B,2,FALSE) -> 100
B70: 8 | C70: Sac (100 Kg) | D70: =VLOOKUP(C70,[7]Unités!A:B,2,FALSE) -> 135
B71: 8 | C71: Sac (25 Kg) | D71: =VLOOKUP(C71,[7]Unités!A:B,2,FALSE) -> 136
B72: 8 | C72: Sac (50 Kg) | D72: =VLOOKUP(C72,[7]Unités!A:B,2,FALSE) -> 138
B73: 8 | C73: Bassine | D73: =VLOOKUP(C73,[7]Unités!A:B,2,FALSE) -> 105
B74: 8 | C74: Bol | D74: =VLOOKUP(C74,[7]Unités!A:B,2,FALSE) -> 109
B75: 8 | C75: Agoua | D75: =VLOOKUP(C75,[7]Unités!A:B,2,FALSE) -> 663
B76: 8 | C76: Kpogban | D76: =VLOOKUP(C76,[7]Unités!A:B,2,FALSE) -> 664
A78: Arachide | B78: 9 | C78: Kg | D78: =VLOOKUP(C78,[7]Unités!A:B,2,FALSE) -> 100
B79: 9 | C79: Sac (100 Kg) | D79: =VLOOKUP(C79,[7]Unités!A:B,2,FALSE) -> 135
B80: 9 | C80: Sac (25 Kg) | D80: =VLOOKUP(C80,[7]Unités!A:B,2,FALSE) -> 136
B81: 9 | C81: Sac (50 Kg) | D81: =VLOOKUP(C81,[7]Unités!A:B,2,FALSE) -> 138
B82: 9 | C82: Bassine | D82: =VLOOKUP(C82,[7]Unités!A:B,2,FALSE) -> 105
B83: 9 | C83: Bol | D83: =VLOOKUP(C83,[7]Unités!A:B,2,FALSE) -> 109
B84: 9 | C84: Agoua | D84: =VLOOKUP(C84,[7]Unités!A:B,2,FALSE) -> 663
B85: 9 | C85: Kpogban | D85: =VLOOKUP(C85,[7]Unités!A:B,2,FALSE) -> 664
A87: Voandzou | B87: 10 | C87: Kg | D87: =VLOOKUP(C87,[7]Unités!A:B,2,FALSE) -> 100
B88: 10 | C88: Sac (100 Kg) | D88: =VLOOKUP(C88,[7]Unités!A:B,2,FALSE) -> 135
B89: 10 | C89: Sac (25 Kg) | D89: =VLOOKUP(C89,[7]Unités!A:B,2,FALSE) -> 136
B90: 10 | C90: Sac (50 Kg) | D90: =VLOOKUP(C90,[7]Unités!A:B,2,FALSE) -> 138
B91: 10 | C91: Bassine | D91: =VLOOKUP(C91,[7]Unités!A:B,2,FALSE) -> 105
B92: 10 | C92: Bol | D92: =VLOOKUP(C92,[7]Unités!A:B,2,FALSE) -> 109
B93: 10 | C93: Agoua | D93: =VLOOKUP(C93,[7]Unités!A:B,2,FALSE) -> 663
B94: 10 | C94: Kpogban | D94: =VLOOKUP(C94,[7]Unités!A:B,2,FALSE) -> 664
A96: Haricot vert | B96: 11 | C96: Kg | D96: =VLOOKUP(C96,[7]Unités!A:B,2,FALSE) -> 100
B97: 11 | C97: Tas | D97: =VLOOKUP(C97,[7]Unités!A:B,2,FALSE) -> 143
B98: 11 | C98: Sac (100 Kg) | D98: =VLOOKUP(C98,[7]Unités!A:B,2,FALSE) -> 135
B99: 11 | C99: Sac (25 Kg) | D99: =VLOOKUP(C99,[7]Unités!A:B,2,FALSE) -> 136
B100: 11 | C100: Sac (50 Kg) | D100: =VLOOKUP(C100,[7]Unités!A:B,2,FALSE) -> 138
B101: 11 | C101: Sac (10 Kg) | D101: 134
B102: 11 | C102: Sac (5 Kg) | D102: 137
B103: 11 | C103: Bassine | D103: =VLOOKUP(C103,[7]Unités!A:B,2,FALSE) -> 105
B104: 11 | C104: Bol | D104: =VLOOKUP(C104,[7]Unités!A:B,2,FALSE) -> 109
B105: 11 | C105: Agoua | D105: =VLOOKUP(C105,[7]Unités!A:B,2,FALSE) -> 663
B106: 11 | C106: Kpogban | D106: =VLOOKUP(C106,[7]Unités!A:B,2,FALSE) -> 664
A108: Manioc | B108: 12 | C108: Kg | D108: =VLOOKUP(C108,[7]Unités!A:B,2,FALSE) -> 100
B109: 12 | C109: Tas | D109: =VLOOKUP(C109,[7]Unités!A:B,2,FALSE) -> 143
B110: 12 | C110: Bassine | D110: =VLOOKUP(C110,[7]Unités!A:B,2,FALSE) -> 105
B111: 12 | C111: Sac (100 Kg) | D111: =VLOOKUP(C111,[7]Unités!A:B,2,FALSE) -> 135
B112: 12 | C112: Sac (25 Kg) | D112: =VLOOKUP(C112,[7]Unités!A:B,2,FALSE) -> 136
...

Sheet Unités
A1: Liste exhaustive des unités
A3: Unité | B3: Code unité | D3: Unité | E3: Code unité
A4: Kg | B4: 100 | D4: Pot | E4: 131
A5: Litre | B5: 101 | D5: Régime | E5: 132
A6: Alvéole | B6: 102 | D6: Sac | E6: 133
A7: Avec os au Kg | B7: 103 | D7: Sac (10 Kg) | E7: 134
A8: Avec os au tas | B8: 104 | D8: Sac (100 Kg) | E8: 135
A9: Bassine | B9: 105 | D9: Sac (25 Kg) | E9: 136
A10: Bidon | B10: 106 | D10: Sac (5 Kg) | E10: 137
A11: Boite | B11: 107 | D11: Sac (50 Kg) | E11: 138
A12: Boîte de tomate | B12: 108 | D12: Sachet | E12: 139
A13: Bol | B13: 109 | D13: Sans os au Kg | E13: 140
A14: Botte | B14: 110 | D14: Sans os au tas | E14: 141
A15: Boule | B15: 111 | D15: Seau | E15: 142
... A29: Louche | B29: 125 | D29: Kpogban | E29: 664
A30: Morceau | B30: 126
A31: Moudou | B31: 127
A32: Panier | B32: 128
A33: Paquet | B33: 129
A34: Plaquette | B34: 130

Sheet Tailles
A3: Taille | B3: Code taille
A4: Unité de taille unique | B4: 0
A5: Petit | B5: 1
A6: Moyen | B6: 2
A7: Grand | B7: 3
A8: Quart | B8: 4
A9: Demi | B9: 5
A10: Entier | B10: 6
A11: Très petit | B11: 7
A12: Très grand | B12: 8
A13: Huitième | B13: 9
A14: Autre taille 1 | B14: 98
A15: Autre taille 2 | B15: 99

Sheet Cultures
A3: Culture | B3: Code culture
A4: Mil | B4: 1
A5: Sorgho | B5: 2
A6: Riz Paddy | B6: 3
A7: Maïs | B7: 4
A8: Souchet | B8: 5
A9: Blé | B9: 6
A10: Fonio | B10: 7
A11: Niébé | B11: 8
A12: Voandzou | B12: 9
A13: Arachide | B13: 10
A14: Gombo | B14: 11
A15: Oseille | B15: 12
... A59: Autre (à spécifier) | B59: 55

Sheet Unités de production
A3: Unité | B3: Code unité
A4: Kg | B4: 1
A5: Unité | B5: 2
A6: Plat Yoruba | B6: 3
A7: Tine | B7: 4
A8: Sac moyen | B8: 5
A9: Sac gros | B9: 6
A10: Autres | B10: 7

Sheet Etats de production
A3: Etat | B3: Code état
A4: Epis/Panicules/coques | B4: 1
A5: Grains | B5: 2
A6: N/A | B6: 3
